BEGIN:VCALENDAR
VERSION:2.0
PRODID:Assembleia de Freguesia de São Vicente - 27 de abril de 2026
X-WR-CALNAME:Assembleia de Freguesia de São Vicente - 27 de abril de 2026
X-WR-TIMEZONE:Europe/Lisbon
X-PUBLISHED-TTL:P1W
BEGIN:VTIMEZONE
TZID:Europe/Lisbon
X-LIC-LOCATION:Europe/Lisbon
END:VTIMEZONE
BEGIN:VEVENT
UID:69ebdc3315f44
DTSTART;VALUE=DATE:20260427
SEQUENCE:0
TRANSP:OPAQUE
DTEND;VALUE=DATE:20260428
SUMMARY:Assembleia de Freguesia de São Vicente - 27 de abril de 2026
CLASS:PUBLIC
DESCRIPTION:No próximo dia 27 de abril\, pelas 20\,30 horas\, irá realiza
 r-se uma sessão ordinária da Assembleia de Freguesia de São Vicente\, n
 a Calçada dos Barbadinhos\, n.º 36/36A.
X-MICROSOFT-CDO-ALLDAYEVENT:TRUE
DTSTAMP:20260424T211011Z
END:VEVENT
END:VCALENDAR