BEGIN:VCALENDAR
VERSION:2.0
PRODID:Circo de Natal de São Vicente
X-WR-CALNAME:Circo de Natal de São Vicente
X-WR-TIMEZONE:Europe/Lisbon
X-PUBLISHED-TTL:P1W
BEGIN:VTIMEZONE
TZID:Europe/Lisbon
X-LIC-LOCATION:Europe/Lisbon
END:VTIMEZONE
BEGIN:VEVENT
UID:69ebc4ca70b5f
DTSTART;VALUE=DATE:20251220
SEQUENCE:0
TRANSP:OPAQUE
DTEND;VALUE=DATE:20251221
SUMMARY:Circo de Natal de São Vicente
CLASS:PUBLIC
DESCRIPTION:Circo de Natal de São VicenteColiseu dos Recreios - 18h30Entra
 da gratuita - Levantamento de bilhetes na JFSV(Consultar condições junto
  dos serviços)
X-MICROSOFT-CDO-ALLDAYEVENT:TRUE
DTSTAMP:20260424T193018Z
END:VEVENT
END:VCALENDAR