BEGIN:VCALENDAR
VERSION:2.0
PRODID:Feira insólita
X-WR-CALNAME:Feira insólita
X-WR-TIMEZONE:Europe/Lisbon
X-PUBLISHED-TTL:P1W
BEGIN:VTIMEZONE
TZID:Europe/Lisbon
X-LIC-LOCATION:Europe/Lisbon
END:VTIMEZONE
BEGIN:VEVENT
UID:69ecc87638319
DTSTART;VALUE=DATE:20260415
SEQUENCE:0
TRANSP:OPAQUE
DTEND;VALUE=DATE:20260416
SUMMARY:Feira insólita
CLASS:PUBLIC
DESCRIPTION:A Feira Insólita decorre de 15 a 30 de abril\, no Largo da Gra
 ça.Diariamente\, entre as 12h e as 19h\, diversas iniciativas (insólitas
 ) vão realizar-se em São Vicente.Música\, comércio\, Arte\, Conversas\
 , Literatura.
X-MICROSOFT-CDO-ALLDAYEVENT:TRUE
DTSTAMP:20260425T135814Z
END:VEVENT
END:VCALENDAR